BEGIN:VCALENDAR
VERSION:2.0
PRODID:-//The Columbus Center for Architecture and Design - ECPv6.15.17.1//NONSGML v1.0//EN
CALSCALE:GREGORIAN
METHOD:PUBLISH
X-WR-CALNAME:The Columbus Center for Architecture and Design
X-ORIGINAL-URL:https://www.columbuscfad.org
X-WR-CALDESC:Events for The Columbus Center for Architecture and Design
REFRESH-INTERVAL;VALUE=DURATION:PT1H
X-Robots-Tag:noindex
X-PUBLISHED-TTL:PT1H
BEGIN:VTIMEZONE
TZID:America/New_York
BEGIN:DAYLIGHT
TZOFFSETFROM:-0500
TZOFFSETTO:-0400
TZNAME:EDT
DTSTART:20250309T070000
END:DAYLIGHT
BEGIN:STANDARD
TZOFFSETFROM:-0400
TZOFFSETTO:-0500
TZNAME:EST
DTSTART:20251102T060000
END:STANDARD
BEGIN:DAYLIGHT
TZOFFSETFROM:-0500
TZOFFSETTO:-0400
TZNAME:EDT
DTSTART:20260308T070000
END:DAYLIGHT
BEGIN:STANDARD
TZOFFSETFROM:-0400
TZOFFSETTO:-0500
TZNAME:EST
DTSTART:20261101T060000
END:STANDARD
BEGIN:DAYLIGHT
TZOFFSETFROM:-0500
TZOFFSETTO:-0400
TZNAME:EDT
DTSTART:20270314T070000
END:DAYLIGHT
BEGIN:STANDARD
TZOFFSETFROM:-0400
TZOFFSETTO:-0500
TZNAME:EST
DTSTART:20271107T060000
END:STANDARD
END:VTIMEZONE
BEGIN:VEVENT
DTSTART;VALUE=DATE:20260601
DTEND;VALUE=DATE:20260606
DTSTAMP:20260424T102306
CREATED:20260116T210515Z
LAST-MODIFIED:20260116T210523Z
UID:10000061-1780272000-1780703999@www.columbuscfad.org
SUMMARY:Camp Architecture and Design 2026\, Week 1
DESCRIPTION:Camp Architecture and Design (CAD) is a one-week program that introduces elementary school-age children grades 3-8 to the world of design. Students will participate in daily activities\, including a series of engaging hands-on projects\, presentations\, and tours. CAD is led by fun and energetic directors\, who have previous experience working with youths. Directors are assisted by a team of talented counselors\, who are currently enrolled in a partnering higher educational program. \nLearn More
URL:https://www.columbuscfad.org/event/camp-architecture-and-design-2026-week-1/
LOCATION:The Ohio State University
ATTACH;FMTTYPE=image/jpeg:https://www.columbuscfad.org/wp-content/uploads/2023/01/camp-architecture-2022-00.jpg
ORGANIZER;CN="The Center for Architecture and Design":MAILTO:mail@columbuscfad.org
END:VEVENT
BEGIN:VEVENT
DTSTART;VALUE=DATE:20260601
DTEND;VALUE=DATE:20260613
DTSTAMP:20260424T102306
CREATED:20260116T211535Z
LAST-MODIFIED:20260116T211543Z
UID:10000069-1780272000-1781308799@www.columbuscfad.org
SUMMARY:High School Design Studio 2026
DESCRIPTION:High School Design Studio (HSDS) is a two-week program for High School students grades 9-12 interested in exploring the many fields of study that fall under the umbrella of design. This immersive studio simulates a collegiate level design studio experience that acclimates students to learning and practicing skills used for developing creative and unique design solutions. Students will work closely with design educators and professionals in the fields of architecture\, landscape architecture\, city and regional planning\, interior design\, graphic design\, industrial design\, and engineering. \nLearn More
URL:https://www.columbuscfad.org/event/high-school-design-studio-2026/
LOCATION:The Ohio State University
ATTACH;FMTTYPE=image/jpeg:https://www.columbuscfad.org/wp-content/uploads/2022/04/cfad-event-high-school-design-studio.jpg
ORGANIZER;CN="The Center for Architecture and Design":MAILTO:mail@columbuscfad.org
END:VEVENT
BEGIN:VEVENT
DTSTART;VALUE=DATE:20260608
DTEND;VALUE=DATE:20260613
DTSTAMP:20260424T102306
CREATED:20260116T210613Z
LAST-MODIFIED:20260116T210620Z
UID:10000062-1780876800-1781308799@www.columbuscfad.org
SUMMARY:Camp Architecture and Design 2026\, Week 2
DESCRIPTION:Camp Architecture and Design (CAD) is a one-week program that introduces elementary school-age children grades 3-8 to the world of design. Students will participate in daily activities\, including a series of engaging hands-on projects\, presentations\, and tours. CAD is led by fun and energetic directors\, who have previous experience working with youths. Directors are assisted by a team of talented counselors\, who are currently enrolled in a partnering higher educational program. \nLearn More
URL:https://www.columbuscfad.org/event/camp-architecture-and-design-2026-week-2/
LOCATION:The Ohio State University
ATTACH;FMTTYPE=image/jpeg:https://www.columbuscfad.org/wp-content/uploads/2023/01/camp-architecture-2022-00.jpg
ORGANIZER;CN="The Center for Architecture and Design":MAILTO:mail@columbuscfad.org
END:VEVENT
BEGIN:VEVENT
DTSTART;VALUE=DATE:20260615
DTEND;VALUE=DATE:20260620
DTSTAMP:20260424T102306
CREATED:20260116T210701Z
LAST-MODIFIED:20260116T210708Z
UID:10000063-1781481600-1781913599@www.columbuscfad.org
SUMMARY:Camp Architecture and Design 2026\, Week 3
DESCRIPTION:Camp Architecture and Design (CAD) is a one-week program that introduces elementary school-age children grades 3-8 to the world of design. Students will participate in daily activities\, including a series of engaging hands-on projects\, presentations\, and tours. CAD is led by fun and energetic directors\, who have previous experience working with youths. Directors are assisted by a team of talented counselors\, who are currently enrolled in a partnering higher educational program. \nLearn More
URL:https://www.columbuscfad.org/event/camp-architecture-and-design-2026-week-3/
LOCATION:The Ohio State University
ATTACH;FMTTYPE=image/jpeg:https://www.columbuscfad.org/wp-content/uploads/2023/01/camp-architecture-2022-00.jpg
ORGANIZER;CN="The Center for Architecture and Design":MAILTO:mail@columbuscfad.org
END:VEVENT
BEGIN:VEVENT
DTSTART;VALUE=DATE:20260622
DTEND;VALUE=DATE:20260627
DTSTAMP:20260424T102306
CREATED:20260116T211036Z
LAST-MODIFIED:20260116T211044Z
UID:10000064-1782086400-1782518399@www.columbuscfad.org
SUMMARY:Camp Architecture and Design 2026\, Week 4
DESCRIPTION:Camp Architecture and Design (CAD) is a one-week program that introduces elementary school-age children grades 3-8 to the world of design. Students will participate in daily activities\, including a series of engaging hands-on projects\, presentations\, and tours. CAD is led by fun and energetic directors\, who have previous experience working with youths. Directors are assisted by a team of talented counselors\, who are currently enrolled in a partnering higher educational program. \nLearn More
URL:https://www.columbuscfad.org/event/camp-architecture-and-design-2026-week-4/
LOCATION:The Ohio State University
ATTACH;FMTTYPE=image/jpeg:https://www.columbuscfad.org/wp-content/uploads/2023/01/camp-architecture-2022-00.jpg
ORGANIZER;CN="The Center for Architecture and Design":MAILTO:mail@columbuscfad.org
END:VEVENT
BEGIN:VEVENT
DTSTART;VALUE=DATE:20260706
DTEND;VALUE=DATE:20260711
DTSTAMP:20260424T102306
CREATED:20260116T211146Z
LAST-MODIFIED:20260116T211153Z
UID:10000065-1783296000-1783727999@www.columbuscfad.org
SUMMARY:Camp Architecture and Design 2026\, Week 5
DESCRIPTION:Camp Architecture and Design (CAD) is a one-week program that introduces elementary school-age children grades 3-8 to the world of design. Students will participate in daily activities\, including a series of engaging hands-on projects\, presentations\, and tours. CAD is led by fun and energetic directors\, who have previous experience working with youths. Directors are assisted by a team of talented counselors\, who are currently enrolled in a partnering higher educational program. \nLearn More
URL:https://www.columbuscfad.org/event/camp-architecture-and-design-2026-week-5/
LOCATION:The Center for Architecture and Design\, 50 W. Town Street\, Suite 110\, Columbus\, OH\, 43215\, United States
ATTACH;FMTTYPE=image/jpeg:https://www.columbuscfad.org/wp-content/uploads/2023/01/camp-architecture-2022-00.jpg
ORGANIZER;CN="The Center for Architecture and Design":MAILTO:mail@columbuscfad.org
END:VEVENT
BEGIN:VEVENT
DTSTART;VALUE=DATE:20260713
DTEND;VALUE=DATE:20260718
DTSTAMP:20260424T102306
CREATED:20260116T211231Z
LAST-MODIFIED:20260116T211239Z
UID:10000066-1783900800-1784332799@www.columbuscfad.org
SUMMARY:Camp Architecture and Design 2026\, Week 6
DESCRIPTION:Camp Architecture and Design (CAD) is a one-week program that introduces elementary school-age children grades 3-8 to the world of design. Students will participate in daily activities\, including a series of engaging hands-on projects\, presentations\, and tours. CAD is led by fun and energetic directors\, who have previous experience working with youths. Directors are assisted by a team of talented counselors\, who are currently enrolled in a partnering higher educational program. \nLearn More
URL:https://www.columbuscfad.org/event/camp-architecture-and-design-2026-week-6/
LOCATION:The Center for Architecture and Design\, 50 W. Town Street\, Suite 110\, Columbus\, OH\, 43215\, United States
ATTACH;FMTTYPE=image/jpeg:https://www.columbuscfad.org/wp-content/uploads/2023/01/camp-architecture-2022-00.jpg
ORGANIZER;CN="The Center for Architecture and Design":MAILTO:mail@columbuscfad.org
END:VEVENT
BEGIN:VEVENT
DTSTART;VALUE=DATE:20260720
DTEND;VALUE=DATE:20260725
DTSTAMP:20260424T102306
CREATED:20260116T211327Z
LAST-MODIFIED:20260116T211334Z
UID:10000067-1784505600-1784937599@www.columbuscfad.org
SUMMARY:Camp Architecture and Design 2026\, Week 7
DESCRIPTION:Camp Architecture and Design (CAD) is a one-week program that introduces elementary school-age children grades 3-8 to the world of design. Students will participate in daily activities\, including a series of engaging hands-on projects\, presentations\, and tours. CAD is led by fun and energetic directors\, who have previous experience working with youths. Directors are assisted by a team of talented counselors\, who are currently enrolled in a partnering higher educational program. \nLearn More
URL:https://www.columbuscfad.org/event/camp-architecture-and-design-2026-week-7/
LOCATION:The Center for Architecture and Design\, 50 W. Town Street\, Suite 110\, Columbus\, OH\, 43215\, United States
ATTACH;FMTTYPE=image/jpeg:https://www.columbuscfad.org/wp-content/uploads/2023/01/camp-architecture-2022-00.jpg
ORGANIZER;CN="The Center for Architecture and Design":MAILTO:mail@columbuscfad.org
END:VEVENT
BEGIN:VEVENT
DTSTART;VALUE=DATE:20260727
DTEND;VALUE=DATE:20260801
DTSTAMP:20260424T102306
CREATED:20260116T211408Z
LAST-MODIFIED:20260116T211415Z
UID:10000068-1785110400-1785542399@www.columbuscfad.org
SUMMARY:Camp Architecture and Design 2026\, Week 8
DESCRIPTION:Camp Architecture and Design (CAD) is a one-week program that introduces elementary school-age children grades 3-8 to the world of design. Students will participate in daily activities\, including a series of engaging hands-on projects\, presentations\, and tours. CAD is led by fun and energetic directors\, who have previous experience working with youths. Directors are assisted by a team of talented counselors\, who are currently enrolled in a partnering higher educational program. \nLearn More
URL:https://www.columbuscfad.org/event/camp-architecture-and-design-2026-week-8/
LOCATION:The Center for Architecture and Design\, 50 W. Town Street\, Suite 110\, Columbus\, OH\, 43215\, United States
ATTACH;FMTTYPE=image/jpeg:https://www.columbuscfad.org/wp-content/uploads/2023/01/camp-architecture-2022-00.jpg
ORGANIZER;CN="The Center for Architecture and Design":MAILTO:mail@columbuscfad.org
END:VEVENT
END:VCALENDAR